BEGIN:VCALENDAR
VERSION:2.0
PRODID:-//Sight Support Worthing - ECPv6.15.20//NONSGML v1.0//EN
CALSCALE:GREGORIAN
METHOD:PUBLISH
X-ORIGINAL-URL:https://sswcharity.org.uk
X-WR-CALDESC:Events for Sight Support Worthing
REFRESH-INTERVAL;VALUE=DURATION:PT1H
X-Robots-Tag:noindex
X-PUBLISHED-TTL:PT1H
BEGIN:VTIMEZONE
TZID:Europe/London
BEGIN:DAYLIGHT
TZOFFSETFROM:+0000
TZOFFSETTO:+0100
TZNAME:BST
DTSTART:20240331T010000
END:DAYLIGHT
BEGIN:STANDARD
TZOFFSETFROM:+0100
TZOFFSETTO:+0000
TZNAME:GMT
DTSTART:20241027T010000
END:STANDARD
BEGIN:DAYLIGHT
TZOFFSETFROM:+0000
TZOFFSETTO:+0100
TZNAME:BST
DTSTART:20250330T010000
END:DAYLIGHT
BEGIN:STANDARD
TZOFFSETFROM:+0100
TZOFFSETTO:+0000
TZNAME:GMT
DTSTART:20251026T010000
END:STANDARD
BEGIN:DAYLIGHT
TZOFFSETFROM:+0000
TZOFFSETTO:+0100
TZNAME:BST
DTSTART:20260329T010000
END:DAYLIGHT
BEGIN:STANDARD
TZOFFSETFROM:+0100
TZOFFSETTO:+0000
TZNAME:GMT
DTSTART:20261025T010000
END:STANDARD
END:VTIMEZONE
BEGIN:VEVENT
DTSTART;TZID=Europe/London:20251010T170000
DTEND;TZID=Europe/London:20251010T220000
DTSTAMP:20260420T212724
CREATED:20250925T111708Z
LAST-MODIFIED:20250925T111942Z
UID:14756-1760115600-1760133600@sswcharity.org.uk
SUMMARY:Games Night 18+
DESCRIPTION:Games night at the centre! Have fun!
URL:https://sswcharity.org.uk/calendar-event/games-night-18/
CATEGORIES:18 PLUS!
ATTACH;FMTTYPE=image/png:https://sswcharity.org.uk/wp-content/uploads/2022/11/epic-games-event-image.png
END:VEVENT
END:VCALENDAR