BEGIN:VCALENDAR
VERSION:2.0
PRODID:-//Sight Support Worthing - ECPv6.15.20//NONSGML v1.0//EN
CALSCALE:GREGORIAN
METHOD:PUBLISH
X-ORIGINAL-URL:https://sswcharity.org.uk
X-WR-CALDESC:Events for Sight Support Worthing
REFRESH-INTERVAL;VALUE=DURATION:PT1H
X-Robots-Tag:noindex
X-PUBLISHED-TTL:PT1H
BEGIN:VTIMEZONE
TZID:Europe/London
BEGIN:DAYLIGHT
TZOFFSETFROM:+0000
TZOFFSETTO:+0100
TZNAME:BST
DTSTART:20230326T010000
END:DAYLIGHT
BEGIN:STANDARD
TZOFFSETFROM:+0100
TZOFFSETTO:+0000
TZNAME:GMT
DTSTART:20231029T010000
END:STANDARD
BEGIN:DAYLIGHT
TZOFFSETFROM:+0000
TZOFFSETTO:+0100
TZNAME:BST
DTSTART:20240331T010000
END:DAYLIGHT
BEGIN:STANDARD
TZOFFSETFROM:+0100
TZOFFSETTO:+0000
TZNAME:GMT
DTSTART:20241027T010000
END:STANDARD
BEGIN:DAYLIGHT
TZOFFSETFROM:+0000
TZOFFSETTO:+0100
TZNAME:BST
DTSTART:20250330T010000
END:DAYLIGHT
BEGIN:STANDARD
TZOFFSETFROM:+0100
TZOFFSETTO:+0000
TZNAME:GMT
DTSTART:20251026T010000
END:STANDARD
END:VTIMEZONE
BEGIN:VEVENT
DTSTART;TZID=Europe/London:20240704T140000
DTEND;TZID=Europe/London:20240704T153000
DTSTAMP:20260421T220231
CREATED:20240701T095649Z
LAST-MODIFIED:20240701T095649Z
UID:11442-1720101600-1720107000@sswcharity.org.uk
SUMMARY:Poetry with Gill Medway
DESCRIPTION:Gill is at the Centre with her fun poetry appreciation session! Join us at 2pm to enjoy poems and verse with Gill and other SSW members. Places are £5; tea and cake is on offer as is transport. Get in touch to book!
URL:https://sswcharity.org.uk/calendar-event/poetry-with-gill-medway/
LOCATION:Sight Support Worthing\, 48 Rowlands Road\, Worthing\, West Sussex\, BN11 3JT\, United Kingdom
CATEGORIES:Entertainment
END:VEVENT
END:VCALENDAR