BEGIN:VCALENDAR
VERSION:2.0
PRODID:-//Sight Support Worthing - ECPv6.15.20//NONSGML v1.0//EN
CALSCALE:GREGORIAN
METHOD:PUBLISH
X-WR-CALNAME:Sight Support Worthing
X-ORIGINAL-URL:https://sswcharity.org.uk
X-WR-CALDESC:Events for Sight Support Worthing
REFRESH-INTERVAL;VALUE=DURATION:PT1H
X-Robots-Tag:noindex
X-PUBLISHED-TTL:PT1H
BEGIN:VTIMEZONE
TZID:Europe/London
BEGIN:DAYLIGHT
TZOFFSETFROM:+0000
TZOFFSETTO:+0100
TZNAME:BST
DTSTART:20230326T010000
END:DAYLIGHT
BEGIN:STANDARD
TZOFFSETFROM:+0100
TZOFFSETTO:+0000
TZNAME:GMT
DTSTART:20231029T010000
END:STANDARD
BEGIN:DAYLIGHT
TZOFFSETFROM:+0000
TZOFFSETTO:+0100
TZNAME:BST
DTSTART:20240331T010000
END:DAYLIGHT
BEGIN:STANDARD
TZOFFSETFROM:+0100
TZOFFSETTO:+0000
TZNAME:GMT
DTSTART:20241027T010000
END:STANDARD
BEGIN:DAYLIGHT
TZOFFSETFROM:+0000
TZOFFSETTO:+0100
TZNAME:BST
DTSTART:20250330T010000
END:DAYLIGHT
BEGIN:STANDARD
TZOFFSETFROM:+0100
TZOFFSETTO:+0000
TZNAME:GMT
DTSTART:20251026T010000
END:STANDARD
END:VTIMEZONE
BEGIN:VEVENT
DTSTART;TZID=Europe/London:20240222T140000
DTEND;TZID=Europe/London:20240222T160000
DTSTAMP:20260422T070659
CREATED:20240207T101249Z
LAST-MODIFIED:20240207T101437Z
UID:10613-1708610400-1708617600@sswcharity.org.uk
SUMMARY:Jim Carter's Quiz!
DESCRIPTION:Come along for another fun quiz\, put together by Jim Carter!
URL:https://sswcharity.org.uk/calendar-event/jim-carters-quiz/
LOCATION:Sight Support Worthing\, 48 Rowlands Road\, Worthing\, West Sussex\, BN11 3JT\, United Kingdom
CATEGORIES:Entertainment
ATTACH;FMTTYPE=image/png:https://sswcharity.org.uk/wp-content/uploads/2024/02/Event-Thumbs-6.png
END:VEVENT
END:VCALENDAR