BEGIN:VCALENDAR
VERSION:2.0
PRODID:-//Sight Support Worthing - ECPv6.15.20//NONSGML v1.0//EN
CALSCALE:GREGORIAN
METHOD:PUBLISH
X-ORIGINAL-URL:https://sswcharity.org.uk
X-WR-CALDESC:Events for Sight Support Worthing
REFRESH-INTERVAL;VALUE=DURATION:PT1H
X-Robots-Tag:noindex
X-PUBLISHED-TTL:PT1H
BEGIN:VTIMEZONE
TZID:Europe/London
BEGIN:DAYLIGHT
TZOFFSETFROM:+0000
TZOFFSETTO:+0100
TZNAME:BST
DTSTART:20230326T010000
END:DAYLIGHT
BEGIN:STANDARD
TZOFFSETFROM:+0100
TZOFFSETTO:+0000
TZNAME:GMT
DTSTART:20231029T010000
END:STANDARD
BEGIN:DAYLIGHT
TZOFFSETFROM:+0000
TZOFFSETTO:+0100
TZNAME:BST
DTSTART:20240331T010000
END:DAYLIGHT
BEGIN:STANDARD
TZOFFSETFROM:+0100
TZOFFSETTO:+0000
TZNAME:GMT
DTSTART:20241027T010000
END:STANDARD
BEGIN:DAYLIGHT
TZOFFSETFROM:+0000
TZOFFSETTO:+0100
TZNAME:BST
DTSTART:20250330T010000
END:DAYLIGHT
BEGIN:STANDARD
TZOFFSETFROM:+0100
TZOFFSETTO:+0000
TZNAME:GMT
DTSTART:20251026T010000
END:STANDARD
END:VTIMEZONE
BEGIN:VEVENT
DTSTART;TZID=Europe/London:20240531T050000
DTEND;TZID=Europe/London:20240531T220000
DTSTAMP:20260421T233109
CREATED:20240423T142138Z
LAST-MODIFIED:20240423T142138Z
UID:11025-1717131600-1717192800@sswcharity.org.uk
SUMMARY:18 PLUS! Showdown
DESCRIPTION:We’ll be showcasing the new Showdown table at this months 18 PLUS! \nCome and try out this inclusive and competitive game\, grab some pizza and enjoy some great company.
URL:https://sswcharity.org.uk/calendar-event/18-plus-showdown/
CATEGORIES:18 PLUS!
END:VEVENT
END:VCALENDAR