BEGIN:VCALENDAR
VERSION:2.0
PRODID:-//Sight Support Worthing - ECPv6.15.20//NONSGML v1.0//EN
CALSCALE:GREGORIAN
METHOD:PUBLISH
X-WR-CALNAME:Sight Support Worthing
X-ORIGINAL-URL:https://sswcharity.org.uk
X-WR-CALDESC:Events for Sight Support Worthing
REFRESH-INTERVAL;VALUE=DURATION:PT1H
X-Robots-Tag:noindex
X-PUBLISHED-TTL:PT1H
BEGIN:VTIMEZONE
TZID:Europe/London
BEGIN:DAYLIGHT
TZOFFSETFROM:+0000
TZOFFSETTO:+0100
TZNAME:BST
DTSTART:20230326T010000
END:DAYLIGHT
BEGIN:STANDARD
TZOFFSETFROM:+0100
TZOFFSETTO:+0000
TZNAME:GMT
DTSTART:20231029T010000
END:STANDARD
BEGIN:DAYLIGHT
TZOFFSETFROM:+0000
TZOFFSETTO:+0100
TZNAME:BST
DTSTART:20240331T010000
END:DAYLIGHT
BEGIN:STANDARD
TZOFFSETFROM:+0100
TZOFFSETTO:+0000
TZNAME:GMT
DTSTART:20241027T010000
END:STANDARD
BEGIN:DAYLIGHT
TZOFFSETFROM:+0000
TZOFFSETTO:+0100
TZNAME:BST
DTSTART:20250330T010000
END:DAYLIGHT
BEGIN:STANDARD
TZOFFSETFROM:+0100
TZOFFSETTO:+0000
TZNAME:GMT
DTSTART:20251026T010000
END:STANDARD
END:VTIMEZONE
BEGIN:VEVENT
DTSTART;TZID=Europe/London:20240126T170000
DTEND;TZID=Europe/London:20240126T220000
DTSTAMP:20260422T070428
CREATED:20240117T155539Z
LAST-MODIFIED:20240117T160144Z
UID:10513-1706288400-1706306400@sswcharity.org.uk
SUMMARY:18 PLUS! Bowling
DESCRIPTION:This month we’ll be bowling at Hollywood Bowl\, Worthing\, followed by pub grub and drinks. \nThe price includes two games\, but you will need to buy your own food and drink.
URL:https://sswcharity.org.uk/calendar-event/18-plus-bowling/
CATEGORIES:18 PLUS!
END:VEVENT
BEGIN:VEVENT
DTSTART;TZID=Europe/London:20240131T140000
DTEND;TZID=Europe/London:20240131T160000
DTSTAMP:20260422T070428
CREATED:20240108T150008Z
LAST-MODIFIED:20250623T144952Z
UID:10316-1706709600-1706716800@sswcharity.org.uk
SUMMARY:Classical Music Appreciation with Tony
DESCRIPTION:Join Tony and friends for a relaxed classical music appreciation session. Takes place the last Wednesday afternoon of the month from 2 – 4pm.  There is no charge but should you need transport the £5 minibus charge applies. \nPlease register for your place here or call the Centre.
URL:https://sswcharity.org.uk/calendar-event/classical-music-appreciation-with-tony/2024-01-31/
LOCATION:Sight Support Worthing\, 48 Rowlands Road\, Worthing\, West Sussex\, BN11 3JT\, United Kingdom
CATEGORIES:Entertainment
ATTACH;FMTTYPE=image/jpeg:https://sswcharity.org.uk/wp-content/uploads/2024/01/pexels-pixabay-210764-scaled.jpg
END:VEVENT
END:VCALENDAR