BEGIN:VCALENDAR
VERSION:2.0
PRODID:-//Sight Support Worthing - ECPv6.15.20//NONSGML v1.0//EN
CALSCALE:GREGORIAN
METHOD:PUBLISH
X-WR-CALNAME:Sight Support Worthing
X-ORIGINAL-URL:https://sswcharity.org.uk
X-WR-CALDESC:Events for Sight Support Worthing
REFRESH-INTERVAL;VALUE=DURATION:PT1H
X-Robots-Tag:noindex
X-PUBLISHED-TTL:PT1H
BEGIN:VTIMEZONE
TZID:Europe/London
BEGIN:DAYLIGHT
TZOFFSETFROM:+0000
TZOFFSETTO:+0100
TZNAME:BST
DTSTART:20250330T010000
END:DAYLIGHT
BEGIN:STANDARD
TZOFFSETFROM:+0100
TZOFFSETTO:+0000
TZNAME:GMT
DTSTART:20251026T010000
END:STANDARD
BEGIN:DAYLIGHT
TZOFFSETFROM:+0000
TZOFFSETTO:+0100
TZNAME:BST
DTSTART:20260329T010000
END:DAYLIGHT
BEGIN:STANDARD
TZOFFSETFROM:+0100
TZOFFSETTO:+0000
TZNAME:GMT
DTSTART:20261025T010000
END:STANDARD
BEGIN:DAYLIGHT
TZOFFSETFROM:+0000
TZOFFSETTO:+0100
TZNAME:BST
DTSTART:20270328T010000
END:DAYLIGHT
BEGIN:STANDARD
TZOFFSETFROM:+0100
TZOFFSETTO:+0000
TZNAME:GMT
DTSTART:20271031T010000
END:STANDARD
END:VTIMEZONE
BEGIN:VEVENT
DTSTART;TZID=Europe/London:20260420T100000
DTEND;TZID=Europe/London:20260420T120000
DTSTAMP:20260420T030851
CREATED:20260123T140642Z
LAST-MODIFIED:20260304T101715Z
UID:15670-1776679200-1776686400@sswcharity.org.uk
SUMMARY:Coffee Morning
DESCRIPTION:Every Monday from 10 am to 12 pm. Everyone is welcome to our weekly coffee morning for a hot drink\, a snack and a chat. No need to book\, just come along to meet other members of our community.  \n\n\n\nWe ask for a £1 donation for hot drinks.
URL:https://sswcharity.org.uk/calendar-event/coffee-morning-3-2026-03-02-2026-04-13-2026-04-20/2026-04-20/
LOCATION:Sight Support Worthing\, 48 Rowlands Road\, Worthing\, West Sussex\, BN11 3JT\, United Kingdom
CATEGORIES:Drop-in Sessions
ATTACH;FMTTYPE=image/png:https://sswcharity.org.uk/wp-content/uploads/2024/01/Event-Thumbs-2.png
ORGANIZER;CN="Sight Support Worthing":MAILTO:info@sightsupportworthing.org.uk
END:VEVENT
BEGIN:VEVENT
DTSTART;TZID=Europe/London:20260420T110000
DTEND;TZID=Europe/London:20260420T130000
DTSTAMP:20260420T030851
CREATED:20260331T095805Z
LAST-MODIFIED:20260331T095807Z
UID:15861-1776682800-1776690000@sswcharity.org.uk
SUMMARY:Monday Bus Trip: Durrington Tesco
DESCRIPTION:Join us on a trip to Durrington Tesco\, The Works\, Marie Curie and more
URL:https://sswcharity.org.uk/calendar-event/monday-bus-trip-durrington-tesco/
LOCATION:West Sussex
CATEGORIES:Trips
ATTACH;FMTTYPE=image/png:https://sswcharity.org.uk/wp-content/uploads/2024/04/Event-Thumbs-11-1.png
ORGANIZER;CN="Sight Support Worthing":MAILTO:info@sightsupportworthing.org.uk
END:VEVENT
BEGIN:VEVENT
DTSTART;TZID=Europe/London:20260420T110000
DTEND;TZID=Europe/London:20260420T123000
DTSTAMP:20260420T030851
CREATED:20251218T134529Z
LAST-MODIFIED:20251218T134529Z
UID:15699-1776682800-1776688200@sswcharity.org.uk
SUMMARY:Chess Club
DESCRIPTION:Come and join us for our Weekly Chess Sessions! We use modified boards and pieces make this a very accessible pastime for all.
URL:https://sswcharity.org.uk/calendar-event/chess-club-2-2026-02-16-2026-03-30/2026-04-20/
LOCATION:Sight Support Worthing\, 48 Rowlands Road\, Worthing\, West Sussex\, BN11 3JT\, United Kingdom
CATEGORIES:Classes and Groups
ATTACH;FMTTYPE=image/png:https://sswcharity.org.uk/wp-content/uploads/2024/06/for-Beginners.png
ORGANIZER;CN="Sight Support Worthing":MAILTO:info@sightsupportworthing.org.uk
END:VEVENT
BEGIN:VEVENT
DTSTART;TZID=Europe/London:20260420T130000
DTEND;TZID=Europe/London:20260420T150000
DTSTAMP:20260420T030851
CREATED:20251218T135110Z
LAST-MODIFIED:20251218T135110Z
UID:15708-1776690000-1776697200@sswcharity.org.uk
SUMMARY:Showdown for Beginners
DESCRIPTION:Open for all to learn the fundamentals of Showdown in a calm and inclusive environment.
URL:https://sswcharity.org.uk/calendar-event/showdown-for-beginners-2-2026-02-16-2026-03-30/2026-04-20/
LOCATION:Sight Support Worthing\, 48 Rowlands Road\, Worthing\, West Sussex\, BN11 3JT\, United Kingdom
CATEGORIES:Classes and Groups,Sports and physical activities
ATTACH;FMTTYPE=image/jpeg:https://sswcharity.org.uk/wp-content/uploads/2024/03/showdown.jpg
ORGANIZER;CN="Sight Support Worthing":MAILTO:info@sightsupportworthing.org.uk
END:VEVENT
END:VCALENDAR